BEGIN:VCALENDAR
VERSION:2.0
PRODID:-//A Singletrack Mind - ECPv6.15.13//NONSGML v1.0//EN
CALSCALE:GREGORIAN
METHOD:PUBLISH
X-ORIGINAL-URL:https://asingletrackmind.com
X-WR-CALDESC:Events for A Singletrack Mind
REFRESH-INTERVAL;VALUE=DURATION:PT1H
X-Robots-Tag:noindex
X-PUBLISHED-TTL:PT1H
BEGIN:VTIMEZONE
TZID:America/Los_Angeles
BEGIN:DAYLIGHT
TZOFFSETFROM:-0800
TZOFFSETTO:-0700
TZNAME:PDT
DTSTART:20250309T100000
END:DAYLIGHT
BEGIN:STANDARD
TZOFFSETFROM:-0700
TZOFFSETTO:-0800
TZNAME:PST
DTSTART:20251102T090000
END:STANDARD
BEGIN:DAYLIGHT
TZOFFSETFROM:-0800
TZOFFSETTO:-0700
TZNAME:PDT
DTSTART:20260308T100000
END:DAYLIGHT
BEGIN:STANDARD
TZOFFSETFROM:-0700
TZOFFSETTO:-0800
TZNAME:PST
DTSTART:20261101T090000
END:STANDARD
BEGIN:DAYLIGHT
TZOFFSETFROM:-0800
TZOFFSETTO:-0700
TZNAME:PDT
DTSTART:20270314T100000
END:DAYLIGHT
BEGIN:STANDARD
TZOFFSETFROM:-0700
TZOFFSETTO:-0800
TZNAME:PST
DTSTART:20271107T090000
END:STANDARD
END:VTIMEZONE
BEGIN:VEVENT
DTSTART;TZID=America/Los_Angeles:20260501T133000
DTEND;TZID=America/Los_Angeles:20260501T170000
DTSTAMP:20260422T033124
CREATED:20260205T045030Z
LAST-MODIFIED:20260406T220952Z
UID:8747-1777642200-1777654800@asingletrackmind.com
SUMMARY:MARINDURO Race Prep MTB Clinic - FAIRFAX
DESCRIPTION: Marinduro Race Prep MTB Clinic-Fairfax\nRace Performance & Technical Skills Clinic\n20% of all proceeds go directly to the Marin Trail Stewardship \n1:30-5pm \nAre you signed up for the 2026 Marinduro? This is a great opportunity to build & refine your technical skill set and get prepared to race and ride at the top of your game! Join us for this race prep & performance skills clinic! \nThe Marinduro is a blind course so this clinic will not be revealing the exact course line.  The clinic will prepare you for the event by teaching the technical skills and insight on racing Enduro. You will learn how to maneuver the trail and ride features that simulate what may be on the course. \nDetails\n\nGain the technical skills and deepen your understanding of enduro racing and preparation.\nEmphasis on: balance and speed to improve your confidence and control while on the trail and in the race environment. Learning how to weight and un-weight your bike will  help you ride with precision in uneven terrain.\nWe will be discussing scouting the line\, vision\, trail assessment\, body position\, and stamina for Enduro prep. Looking for ways to stay committed to the bike and trail in challenging terrain.\nYou will gain the skills and confidence to ride trails that may have troubled you in the past with a fluidity and rhythm. Refining your cornering and switchbacks skills\, wheel lifts- both front and rear and learn to confidentially maneuver your bike in varied terrain.\nFinding your flow on corners and trail – Riding with a rhythm and flow. Vision-looking ahead to be prepared for whats ahead. Working on speed and fluidity on trail and riding through switchbacks with confidence.\nWheel Lifts – both front and rear to help confidentially maneuver up and over varied features and terrain.\n\nWhat To Expect\nThe afternoon is broken down with initail skills drills and transitioning to direct application of the skills out on the trail. Small group size allows for personalized skill focus as well. Meeting the needs of each rider. \nEach rider will receive: \n\nKatesRealFoodBars to fuel their ride during the session.\nCustom designed ASM swag to take home!\nAfter clinic tips and techniques will be emailed out after your session to have as a resource! Be sure to check your SPAM folder\n\nIf you can’t make this clinic be sure to check out our list of upcoming events.
URL:https://asingletrackmind.com/event/marinduro-race-prep-mtb-clinic-fairfax/
LOCATION:fairfax CA\, Fairfax
CATEGORIES:1 Day Clinics,Cornering & Wheel Lifts,Flow
ATTACH;FMTTYPE=image/jpeg:https://asingletrackmind.com/wp-content/uploads/2026/02/broken-dam-fairfax-scaled.jpg
END:VEVENT
BEGIN:VEVENT
DTSTART;TZID=America/Los_Angeles:20260502T090000
DTEND;TZID=America/Los_Angeles:20260502T140000
DTSTAMP:20260422T033124
CREATED:20260214T014356Z
LAST-MODIFIED:20260214T014356Z
UID:8762-1777712400-1777730400@asingletrackmind.com
SUMMARY:Gravel Skills Clinic-Marin
DESCRIPTION:Gravel Skills Clinic-Marin\nMaster your gravel bike skills. In this 1-day Marin Gravel Skills Clinic\, we will dive into the Core Fundamentals and apply these skills to gravel riding. ex: cornering\, braking\, slow speed\, balance\, body position\, wheel lifts\, variance of the skills\, switch backs\, basic drops\, vision\, and more. \nSuited for those that are eager to build the essential core fundamentals in regards to gravel riding or refine the skill set they presently have. \nThe Marin Gravel clinic is progression based skill building. Meaning\, that there are progressions for each skill. and each type of rider.  So that each level of rider can progress and challenge within their own ability. \nThe day is broken down with skills drills transitioning to direct application of the skills out on the trail. Appropriate breaks provided. \nSmall group size allows for personalized skill focus as well.  Meeting the needs of each rider. \nEach rider will receive: \n\nKatesRealFoodBars to fuel their ride during the session.\nAfter clinic tips and techniques will be emailed out after your session to have as a resource! Be sure to check your SPAM folder\n\nIf you can’t make this clinic be sure to check out our list of upcoming events.
URL:https://asingletrackmind.com/event/gravel-skills-clinic-marin-3/
LOCATION:China Camp State Park\, N San Pedro Rd\, San Rafael\, CA\, 94903\, United States
CATEGORIES:1 Day Clinics,gravel
ATTACH;FMTTYPE=image/jpeg:https://asingletrackmind.com/wp-content/uploads/2022/04/gravel-grind.jpg
END:VEVENT
BEGIN:VEVENT
DTSTART;TZID=America/Los_Angeles:20260516T090000
DTEND;TZID=America/Los_Angeles:20260516T140000
DTSTAMP:20260422T033124
CREATED:20260301T225650Z
LAST-MODIFIED:20260321T162230Z
UID:8786-1778922000-1778940000@asingletrackmind.com
SUMMARY:Women's Core Fundamentals MTB Skills Clinic-Truckee
DESCRIPTION:Women’s Core Fundamentals MTB Skills Clinic-Truckee\nOptimize your trail technique and learn effective riding skills and techniques to better your riding experience with the support of a women’s only small group. Increase your confidence on the bike and ride with other like-minded women. Same core skills learned in a co-ed camp except in a female environment. This clinic is progression based so each rider can progress at their own pace and skill level without pressure or pull back. Leave this women’s MTB clinic in Truckee empowered and ready to shred! \nWhat To Expect/Details:\n\n9-2pm with appropriate breaks\nCore Fundamentals course -skills\, drills\, coach demonstration and trail application.\nSet curriculum  that has been tried and tested over 16 years to master and improve your overall mountain bike kills. \nLearn the solid foundation skills. ex: cornering\, braking\, slow speed\, balance\, body position\, bike-body separation\, wheel lifts\, variance of the skills\, switch backs\, vision\, and more.\nCoached by the highest level of coaching certification in the industry.\n\nThe clinic is progression based skill building. Meaning\, that there are progressions for each skill. So that each level of rider can progress and challenge within their own ability. The day is broken down with skills drills transitioning to direct application of the skills out on the trail. Appropriate breaks provided. Small group size allows for personalized skill focus as well. Meeting the needs of each rider. \nEach rider will receive: \n\nKatesRealFoodBars to fuel their ride during the session.\nCustom designed ASM swag\nAfter clinic tips and techniques will be emailed out after your session to have as a resource! Be sure to check your SPAM folder\n\nIf you can’t make this clinic be sure to check out our list of upcoming events.
URL:https://asingletrackmind.com/event/womens-core-fundamentals-mtb-skills-clinic-tahoe-truckee-10/
LOCATION:OHV Staging Area at Prosser Hill
CATEGORIES:1 Day Clinics,Womens
ATTACH;FMTTYPE=image/jpeg:https://asingletrackmind.com/wp-content/uploads/2022/01/group_pic1.jpg
END:VEVENT
BEGIN:VEVENT
DTSTART;TZID=America/Los_Angeles:20260613T090000
DTEND;TZID=America/Los_Angeles:20260613T140000
DTSTAMP:20260422T033124
CREATED:20260301T224558Z
LAST-MODIFIED:20260321T143232Z
UID:8784-1781341200-1781359200@asingletrackmind.com
SUMMARY:MTB Core Fundamentals - Truckee
DESCRIPTION:MTB Core Fundamentals – Truckee\nMaster your  mountain bike skills. In this Truckee MTB Clinic weekend –  we will dive into the Core Fundamentals and apply these skills. ex: cornering\, braking\, slow speed\, balance\, body position\, wheel lifts\, variance of the skills\, switch backs\, basic drops\, vision\, and more. \nIf you can’t make one of our 2 or 3-day core fundamentals with the skill progressions\, this 1-day is a great way to build your key mtb skills in a consolidated 1-day session. \nWhat Is A Core Fundamental Clinic?\nOur Core fundamental clinics are for all abilities that are into the sport. Suited for those that are eager to build the essential core fundamentals or refine the skill set they presently have. We help you build\, refine and expand your present riding skill set. \nThe Truckee MTB clinic is progression based skill building. Meaning\, that there are progressions for each skill. So that each level of rider can progress and challenge within their own ability. \nThe day is broken down with skills drills transitioning to direct application of the skills out on the trail. Appropriate breaks provided. \nSmall group size allows for personalized skill focus as well.  Meeting the needs of each rider. \nEach rider will receive: \n\nKatesRealFoodBars to fuel their ride during the session.\nAfter clinic tips and techniques will be emailed out after your session to have as a resource! Be sure to check your SPAM folder\n\nIf you can’t make this clinic be sure to check out our list of upcoming events.
URL:https://asingletrackmind.com/event/1-day-mtb-core-fundamentals-truckee/
LOCATION:OHV Staging Area at Prosser Hill
CATEGORIES:1 Day Clinics
ATTACH;FMTTYPE=image/jpeg:https://asingletrackmind.com/wp-content/uploads/2023/11/179-scaled.jpg
END:VEVENT
BEGIN:VEVENT
DTSTART;TZID=America/Los_Angeles:20260703T090000
DTEND;TZID=America/Los_Angeles:20260703T160000
DTSTAMP:20260422T033124
CREATED:20260412T175909Z
LAST-MODIFIED:20260412T175909Z
UID:8932-1783069200-1783094400@asingletrackmind.com
SUMMARY:E-Bike Essentials & Core Fundamentals - Truckee
DESCRIPTION:E-Bike Essentials & Core Fundamentals – Truckee\nMaster your E-Bike mountain bike skills. In this 1-day E-bike Truckee MTB Clinic weekend – 7 hrs\, we  will dive into the Core Fundamentals and apply these skills specifically to E-bike riding. ex: cornering\, braking\, slow speed\, balance\, body position\, wheel lifts\, variance of the skills\, switch backs\, basic drops\, vision\, and more. \n•We will  also cover E-Bike trail etiquette\, trail use/access\, components\, E-Bike power and riding with this fluctuating speed in varied terrain will also be addressed. \n•Our Core fundamental E-Bike clinics are for all abilities that are into the sport. Suited for those that are eager to refine the skill set they presently have- to the competitive\, even professional athlete eager to get to the top of their game on the E-Bike. We help you build\, refine and expand your present riding skill set. \nThe clinic is progression based skill building. Meaning\, that there are progressions for each skill. So that each level of rider can progress and challenge within their own ability. \nEach day is broken down with skills drills transitioning to direct application of the skills out on the trail. Appropriate breaks provided. \nSmall group size allows for personalized skill focus as well.  Meeting the needs of each rider. \nEach rider will receive: \n\nKatesRealFoodBars to fuel their ride during the session.\nAfter clinic tips and techniques will be emailed out after your session to have as a resource! Be sure to check your SPAM folder\n\nIf you can’t make this clinic be sure to check out our list of upcoming events.
URL:https://asingletrackmind.com/event/e-bike-essentials-core-fundamentals-truckee-4/
LOCATION:OHV Staging Area at Prosser Hill
CATEGORIES:1 Day Clinics,EBIKE
ATTACH;FMTTYPE=image/jpeg:https://asingletrackmind.com/wp-content/uploads/2024/05/ebike_AdobeStock_224766463.jpeg
END:VEVENT
BEGIN:VEVENT
DTSTART;TZID=America/Los_Angeles:20260717T090000
DTEND;TZID=America/Los_Angeles:20260717T160000
DTSTAMP:20260422T033124
CREATED:20260321T161602Z
LAST-MODIFIED:20260412T175030Z
UID:8856-1784278800-1784304000@asingletrackmind.com
SUMMARY:Rocks\, Drops\,  Berms & Technical Terrain - Truckee/Tahoe
DESCRIPTION:Rocks\, Drops\, Berms & Technical Terrain – Truckee/Tahoe\nThis event is specifically catered to the more experienced riders and those that have taken our core fundamentals course.  Rock gardens can be intimidating. Big boulders stacked on each other like an unsolvable puzzle. Mega drops and other obstacles on the trail can make you second guess your judgement. In this 1-day Truckee MTB clinic for tech terrain it will build more confidence with high speed corners on banked or bermed trails as well as all the terrain features called out above. Learn to improve your skills in managing rocky terrain. \nBuild With A Solid Foundation First\nEven if you’ve been riding bikes for years and can tackle most obstacles we encourage you to take our Core Fundamental Skills Clinic. These classes are designed with progressions for each skill. So that each level of rider can progress and challenge within their own ability. It also ensures that you have the solid building blocks you need to tackle the next level of skills. To learn more about why be sure to read our article – How Is A Mountain Bike Coaching Class Suited For All Abilities? \nWhat To Expect\nWe will be building upon our Core Fundamentals Skills & Progressions clinics. This class will focus on finding your body position and timing for drops and rocky terrain and some natural feature jumps incorporated in the trail. In addition to the technical skills we will also spend time discussing scouting the line\, vision\, and ways to stay committed to the bike and trail in challenging terrain. \nAll registered participants will receive KatesRealFoodBars.  \nIf you can’t make this clinic be sure to check out our list of upcoming events. \n*A week prior to event you will receive another email with the fine details with what to expect\, what to bring and where exactly to meet for the Truckee mtb clinic. \n 
URL:https://asingletrackmind.com/event/rocks-drops-berms-technical-terrain-truckee-tahoe-5/
CATEGORIES:1 Day Clinics,Technical Terrain & Advanced Fundamentals
ATTACH;FMTTYPE=image/jpeg:https://asingletrackmind.com/wp-content/uploads/2021/07/SLT_clinic_P7260755.jpg
END:VEVENT
BEGIN:VEVENT
DTSTART;TZID=America/Los_Angeles:20260718T090000
DTEND;TZID=America/Los_Angeles:20260718T140000
DTSTAMP:20260422T033124
CREATED:20260321T160759Z
LAST-MODIFIED:20260321T160856Z
UID:8854-1784365200-1784383200@asingletrackmind.com
SUMMARY:MTB Core Fundamentals - Truckee
DESCRIPTION:MTB Core Fundamentals – Truckee\nMaster your  mountain bike skills. In this Truckee MTB Clinic weekend – we will dive into the Core Fundamentals and apply these skills. ex: cornering\, braking\, slow speed\, balance\, body position\, wheel lifts\, variance of the skills\, switch backs\, basic drops\, vision\, and more. \nIf you can’t make one of our 2 or 3-day core fundamentals with the skill progressions\, this 1-day is a great way to build your key mtb skills in a consolidated  session. \nWhat Is A Core Fundamental Clinic?\nOur Core fundamental clinics are for all abilities that are into the sport. Suited for those that are eager to build the essential core fundamentals or refine the skill set they presently have. We help you build\, refine and expand your present riding skill set. \nThe Truckee MTB clinic is progression based skill building. Meaning\, that there are progressions for each skill. So that each level of rider can progress and challenge within their own ability. \nThe day is broken down with skills drills transitioning to direct application of the skills out on the trail. Appropriate breaks provided. \nSmall group size allows for personalized skill focus as well.  Meeting the needs of each rider. \nEach rider will receive: \n\nKatesRealFoodBars to fuel their ride during the session.\nAfter clinic tips and techniques will be emailed out after your session to have as a resource! Be sure to check your SPAM folder\n\nIf you can’t make this clinic be sure to check out our list of upcoming events.
URL:https://asingletrackmind.com/event/1-day-mtb-core-fundamentals-truckee-3/
LOCATION:OHV Staging Area at Prosser Hill
CATEGORIES:1 Day Clinics
ATTACH;FMTTYPE=image/jpeg:https://asingletrackmind.com/wp-content/uploads/2023/11/179-scaled.jpg
END:VEVENT
BEGIN:VEVENT
DTSTART;TZID=America/Los_Angeles:20260725T090000
DTEND;TZID=America/Los_Angeles:20260725T160000
DTSTAMP:20260422T033124
CREATED:20260321T164125Z
LAST-MODIFIED:20260412T175633Z
UID:8865-1784970000-1784995200@asingletrackmind.com
SUMMARY:E-Bike Essentials & Core Fundamentals - Marin
DESCRIPTION:E-Bike Essentials & Core Fundamentals – Marin\nMaster your E-Bike mountain bike skills. In this 1-day E-bike Marin MTB Clinic weekend – 7 hrs\, we  will dive into the Core Fundamentals and apply these skills specifically to E-bike riding. ex: cornering\, braking\, slow speed\, balance\, body position\, wheel lifts\, variance of the skills\, switch backs\, basic drops\, vision\, and more. \n•We will  also cover E-Bike trail etiquette\, trail use/access\, components\, E-Bike power and riding with this fluctuating speed in varied terrain will also be addressed. \n•Our Core fundamental E-Bike clinics are for all abilities that are into the sport. Suited for those that are eager to refine the skill set they presently have- to the competitive\, even professional athlete eager to get to the top of their game on the E-Bike. We help you build\, refine and expand your present riding skill set. \nThe clinic is progression based skill building. Meaning\, that there are progressions for each skill. So that each level of rider can progress and challenge within their own ability. \nEach day is broken down with skills drills transitioning to direct application of the skills out on the trail. Appropriate breaks provided. \nSmall group size allows for personalized skill focus as well.  Meeting the needs of each rider. \nEach rider will receive: \n\nKatesRealFoodBars to fuel their ride during the session.\nAfter clinic tips and techniques will be emailed out after your session to have as a resource! Be sure to check your SPAM folder\n\nIf you can’t make this clinic be sure to check out our list of upcoming events.
URL:https://asingletrackmind.com/event/e-bike-essentials-core-fundamentals-marin-4/
LOCATION:China Camp State Park\, N San Pedro Rd\, San Rafael\, CA\, 94903\, United States
CATEGORIES:1 Day Clinics,EBIKE
ATTACH;FMTTYPE=image/jpeg:https://asingletrackmind.com/wp-content/uploads/2024/05/ebike_AdobeStock_224766463.jpeg
END:VEVENT
BEGIN:VEVENT
DTSTART;TZID=America/Los_Angeles:20260801T090000
DTEND;TZID=America/Los_Angeles:20260801T160000
DTSTAMP:20260422T033124
CREATED:20260321T161938Z
LAST-MODIFIED:20260321T162039Z
UID:8858-1785574800-1785600000@asingletrackmind.com
SUMMARY:E-Bike Essentials & Core Fundamentals - Truckee
DESCRIPTION:E-Bike Essentials & Core Fundamentals – Truckee\nMaster your E-Bike mountain bike skills. In this 1-day E-bike Truckee MTB Clinic weekend – 7 hrs\, we  will dive into the Core Fundamentals and apply these skills specifically to E-bike riding. ex: cornering\, braking\, slow speed\, balance\, body position\, wheel lifts\, variance of the skills\, switch backs\, basic drops\, vision\, and more. \n•We will  also cover E-Bike trail etiquette\, trail use/access\, components\, E-Bike power and riding with this fluctuating speed in varied terrain will also be addressed. \n•Our Core fundamental E-Bike clinics are for all abilities that are into the sport. Suited for those that are eager to refine the skill set they presently have- to the competitive\, even professional athlete eager to get to the top of their game on the E-Bike. We help you build\, refine and expand your present riding skill set. \nThe clinic is progression based skill building. Meaning\, that there are progressions for each skill. So that each level of rider can progress and challenge within their own ability. \nEach day is broken down with skills drills transitioning to direct application of the skills out on the trail. Appropriate breaks provided. \nSmall group size allows for personalized skill focus as well.  Meeting the needs of each rider. \nEach rider will receive: \n\nKatesRealFoodBars to fuel their ride during the session.\nAfter clinic tips and techniques will be emailed out after your session to have as a resource! Be sure to check your SPAM folder\n\nIf you can’t make this clinic be sure to check out our list of upcoming events.
URL:https://asingletrackmind.com/event/e-bike-essentials-core-fundamentals-truckee-3/
LOCATION:OHV Staging Area at Prosser Hill
CATEGORIES:1 Day Clinics,EBIKE
ATTACH;FMTTYPE=image/jpeg:https://asingletrackmind.com/wp-content/uploads/2022/01/ebike-scaled.jpg
END:VEVENT
BEGIN:VEVENT
DTSTART;TZID=America/Los_Angeles:20260802T090000
DTEND;TZID=America/Los_Angeles:20260802T160000
DTSTAMP:20260422T033124
CREATED:20260321T155850Z
LAST-MODIFIED:20260321T160114Z
UID:8852-1785661200-1785686400@asingletrackmind.com
SUMMARY:Women's Intermediate  MTB Skills Progressions Clinic-Truckee
DESCRIPTION:Women’s Intermediate MTB Skills Progressions Clinic-Truckee\nJoin us in this skill specific/trail application Truckee Women’s MTB clinic where we will hone in on the nitty gritty of mastering cornering and wheel lifts in a supportive female group. \n9am-4pm with appropriate breaks \n\nIntermediate Progression Clinic from our Core Fundamentals. Advancing your skills to the next stage.\n1 day -7 hrs\, set curriculum to master and improve your bike skills.\nComprehensive day long with more intermediate progressions of the core fundamentals skills in particular Cornering and Wheel lifts. This clinic will focus on wheel lifts\, high speed  and slow speed cornering\, braking\, slow speed\, balance\, body position\, variance of the skills\, switch backs\,  vision\, and more. With the enhanced cornering and wheel lift skills you will also focus on maneuvering through more technical terrain.\nOur Intermediate Core fundamental clinics are for those that are ready for the next step in the skill level. Suited for those that are eager to refine the skill set they presently have- to the competitive\, even professional athlete eager to get to the top of their game. We help you build\, refine and expand your present riding skill set.The clinic is progression based skill building. Meaning\, that there are progressions for each skill. So that each level of rider can progress and challenge within their own ability.\nIf you are feeling stagnate in your riding and eager to up your game on the trail this is a good clinic for you.\n\nPlan on looking at reasons to lift the front or rear wheel\, where to use it on trail and how it can make you faster\, smoother and more confident. In addition to the technical skills we will also spend time discussing scouting the line\, vision and ways to stay committed to the bike and trail in challenging terrain. We will focus on the key aspect most people want to learn more about. Come out and Shred \nEach rider will receive: \n\nKatesRealFoodBars to fuel their ride during the session.\nAfter clinic tips and techniques will be emailed out after your session to have as a resource! Be sure to check your SPAM folder\n\nIf you can’t make this Truckee Women’s clinic be sure to check out our list of upcoming events.
URL:https://asingletrackmind.com/event/womens-intermediate-mtb-skills-progressions-clinic-truckee-2/
LOCATION:TRUCKEE
CATEGORIES:1 Day Clinics,Core Fundamentals,Technical Terrain & Advanced Fundamentals
ATTACH;FMTTYPE=image/jpeg:https://asingletrackmind.com/wp-content/uploads/2022/01/1.SLT_P8110398.jpg
END:VEVENT
BEGIN:VEVENT
DTSTART;TZID=America/Los_Angeles:20260822T090000
DTEND;TZID=America/Los_Angeles:20260822T140000
DTSTAMP:20260422T033124
CREATED:20260321T165132Z
LAST-MODIFIED:20260321T165132Z
UID:8869-1787389200-1787407200@asingletrackmind.com
SUMMARY:Women's MTB Core Fundamentals-Santa Cruz
DESCRIPTION:Women’s MTB Core Fundamentals-Santa Cruz\nOptimize your trail technique and learn effective riding skills and techniques to better your riding experience with the support of a women’s only small group. Increase your confidence on the bike and ride with other like-minded women. Same core skills learned in a co-ed camp except in a female environment. This clinic is progression based so each rider can progress at their own pace and skill level without pressure or pull back. Leave this women specific Santa Cruz MTB skills clinic empowered and ready to shred! \nDetails:\nThis women specific Santa Cruz mtb clinic is a Core Fundamentals –guaranteed curriculum to master and improve your bike skills. Learn the solid foundation skills. ex: cornering\, braking\, slow speed\, balance\, body position\, bike-body separation\, wheel lifts\, variance of the skills\, switch backs\, vision\, and more. Coached by the highest level of coaching certification in the industry. \nEach rider will receive: \n\nKatesRealFoodBars to fuel their ride during the session.\nCustom designed ASM neck/face gaiters for your comfort and protection\nAfter clinic tips and techniques will be emailed out after your session to have as a resource! Be sure to check your SPAM folder\n\nIf you can’t make this clinic be sure to check out our list of upcoming events.
URL:https://asingletrackmind.com/event/womens-mtb-core-fundamentals-santa-cruz/
LOCATION:Wilder Ranch\, 1401 Coast Rd\, Santa Cruz\, CA\, 95060\, United States
CATEGORIES:1 Day Clinics,Womens
ATTACH;FMTTYPE=image/jpeg:https://asingletrackmind.com/wp-content/uploads/2022/01/womens-santa-cruz-scaled.jpeg
END:VEVENT
END:VCALENDAR