BEGIN:VCALENDAR
VERSION:2.0
PRODID:-//A Singletrack Mind - ECPv6.15.13//NONSGML v1.0//EN
CALSCALE:GREGORIAN
METHOD:PUBLISH
X-WR-CALNAME:A Singletrack Mind
X-ORIGINAL-URL:https://asingletrackmind.com
X-WR-CALDESC:Events for A Singletrack Mind
REFRESH-INTERVAL;VALUE=DURATION:PT1H
X-Robots-Tag:noindex
X-PUBLISHED-TTL:PT1H
BEGIN:VTIMEZONE
TZID:America/Los_Angeles
BEGIN:DAYLIGHT
TZOFFSETFROM:-0800
TZOFFSETTO:-0700
TZNAME:PDT
DTSTART:20210314T100000
END:DAYLIGHT
BEGIN:STANDARD
TZOFFSETFROM:-0700
TZOFFSETTO:-0800
TZNAME:PST
DTSTART:20211107T090000
END:STANDARD
BEGIN:DAYLIGHT
TZOFFSETFROM:-0800
TZOFFSETTO:-0700
TZNAME:PDT
DTSTART:20220313T100000
END:DAYLIGHT
BEGIN:STANDARD
TZOFFSETFROM:-0700
TZOFFSETTO:-0800
TZNAME:PST
DTSTART:20221106T090000
END:STANDARD
BEGIN:DAYLIGHT
TZOFFSETFROM:-0800
TZOFFSETTO:-0700
TZNAME:PDT
DTSTART:20230312T100000
END:DAYLIGHT
BEGIN:STANDARD
TZOFFSETFROM:-0700
TZOFFSETTO:-0800
TZNAME:PST
DTSTART:20231105T090000
END:STANDARD
END:VTIMEZONE
BEGIN:VEVENT
DTSTART;TZID=America/Los_Angeles:20220318T133000
DTEND;TZID=America/Los_Angeles:20220318T170000
DTSTAMP:20260420T014240
CREATED:20220111T182224Z
LAST-MODIFIED:20220309T233045Z
UID:4019-1647610200-1647622800@asingletrackmind.com
SUMMARY:Jumps\, Drops\, Berms & Park Progressions- (afternoon)
DESCRIPTION:Join us in this skill specific mountain bike clinic where we will hone in on the mentally challenging aspect of mountain biking – jumps. This event will be held on Friday from 1:30 – 5pm \n1/2 Day Long MTB Jump Clinic\nIn this solid 1/2-day mountain bike clinic for jumping\, you will build the skills\, progressions and confidence to approach jumps and drops that have intimated you in the past. We will be building the progressions to step up to terrain with jump and drop features. \nIf this has been your biggest challenge on the bike or you are looking to get into more park riding join us in this 1/2-day clinic. This event is specifically for the 1:30-5pm time. Can’t make it? We also have another class happening at 9am-12:30pm. \nEach rider will get a Kates Real Food Bar.\n\nIf you’re unavailable for this clinic check out our events page for more events near you.
URL:https://asingletrackmind.com/event/jumps-drops-berms-park-progressions-san-jose/
LOCATION:CA
CATEGORIES:Jumps
ATTACH;FMTTYPE=image/jpeg:https://asingletrackmind.com/wp-content/uploads/2021/12/mountain-bike-jumps-clinic.jpeg
END:VEVENT
BEGIN:VEVENT
DTSTART;TZID=America/Los_Angeles:20220318T090000
DTEND;TZID=America/Los_Angeles:20220318T123000
DTSTAMP:20260420T014240
CREATED:20220111T223222Z
LAST-MODIFIED:20220309T233241Z
UID:4030-1647594000-1647606600@asingletrackmind.com
SUMMARY:Jumps\, Drops\, Berms & Park Progressions - Bay Area
DESCRIPTION:Join us in this skill specific  MTB clinic where we will hone in on the mentally challenging aspect of mountain biking – jumps. This event will on Friday. \n1/2 Day Long MTB Jump Clinic\nIn this solid 1/2-day  MTB clinic for jumping. You will build the skills\, progressions and confidence to approach jumps and drops that have intimated you in the past. We will be building the progressions to step up to terrain with jump and drop features. \nIf this has been your biggest challenge on the bike or you are looking to get into more park riding join us in this 1/2-day clinic. 9-12:30pm \nEach rider will get a Kates Real Food Bar.\n\nIf you’re unavailable for this clinic check out our events page for more events near you.
URL:https://asingletrackmind.com/event/jumps-drops-berms-park-progressions-2/
LOCATION:CA
CATEGORIES:Jumps
ATTACH;FMTTYPE=image/jpeg:https://asingletrackmind.com/wp-content/uploads/2021/12/mountain-bike-jumps-clinic.jpeg
END:VEVENT
BEGIN:VEVENT
DTSTART;TZID=America/Los_Angeles:20220115T090000
DTEND;TZID=America/Los_Angeles:20220115T123000
DTSTAMP:20260420T014240
CREATED:20211206T211402Z
LAST-MODIFIED:20220110T185128Z
UID:3897-1642237200-1642249800@asingletrackmind.com
SUMMARY:Jump\, Drops\, Berms & Park Progressions Clinic - Auburn
DESCRIPTION:As the jump clinics have filled up quicker then ever this year we added this session to accommodate those that missed the registration! \nWhere: Auburn Bike Park \nWhen: Saturday Jan 15th- 9-12:30 \nPark Based Clinic! In this solid 1/2-day jump clinic you will build the skills\, progressions and confidence to approach jumps and drops that have intimated you in the past. We will be building the progressions to step up to terrain with jump and drop features. \nIf this has been your biggest challenge on the bike or you are looking to get into more park riding join us in this 1/2-day clinic. 9-12:30pm
URL:https://asingletrackmind.com/event/jump-drops-berms-park-progressions-clinic-auburn/
LOCATION:Auburn Bike Park\, Maidu Dr.\, Auburn\, CA\, 95603\, United States
CATEGORIES:1/2 Day Clinics,Jumps,Rocks, Drops & Berms
ATTACH;FMTTYPE=image/jpeg:https://asingletrackmind.com/wp-content/uploads/2021/12/mountain-bike-jumps-clinic.jpeg
END:VEVENT
END:VCALENDAR